BEGIN:VCALENDAR
VERSION:2.0
PRODID:-//Gobernación de Nariño - ECPv6.2.9//NONSGML v1.0//EN
CALSCALE:GREGORIAN
METHOD:PUBLISH
X-ORIGINAL-URL:https://2020-2023.narino.gov.co
X-WR-CALDESC:Eventos para Gobernación de Nariño
REFRESH-INTERVAL;VALUE=DURATION:PT1H
X-Robots-Tag:noindex
X-PUBLISHED-TTL:PT1H
BEGIN:VTIMEZONE
TZID:America/New_York
BEGIN:DAYLIGHT
TZOFFSETFROM:-0500
TZOFFSETTO:-0400
TZNAME:EDT
DTSTART:20210314T070000
END:DAYLIGHT
BEGIN:STANDARD
TZOFFSETFROM:-0400
TZOFFSETTO:-0500
TZNAME:EST
DTSTART:20211107T060000
END:STANDARD
END:VTIMEZONE
BEGIN:VEVENT
DTSTART;TZID=America/New_York:20210413T170000
DTEND;TZID=America/New_York:20210413T190000
DTSTAMP:20260422T110555
CREATED:20210412T153246Z
LAST-MODIFIED:20210412T153303Z
UID:13070-1618333200-1618340400@2020-2023.narino.gov.co
SUMMARY:Taller sobre robótica básica
DESCRIPTION:El equipo de #ZonaCentro CatiNar\, invita a la comunidad del municipio de Linares\, a participar en el encuentro de saberes del taller gratuito de “Robótica básica I” en pro de la apropiación de la ciencia\, la tecnología y la innovación\, en procesos de crecimiento de la calidad educativa\, el desarrollo de nuevas habilidades\, la lógica del movimiento y el trabajo en equipo.\nSi desea inscribirse puede comunicarse directamente con la facilitadora de Linares Janeth Ruales a través del celular 3142125175.\nBienvenidos a este viaje al siglo XXI
URL:https://2020-2023.narino.gov.co/evento/taller-sobre-robotica-basica/
END:VEVENT
END:VCALENDAR