BEGIN:VCALENDAR
VERSION:2.0
PRODID:-//Gobernación de Nariño - ECPv6.2.9//NONSGML v1.0//EN
CALSCALE:GREGORIAN
METHOD:PUBLISH
X-WR-CALNAME:Gobernación de Nariño
X-ORIGINAL-URL:https://2020-2023.narino.gov.co
X-WR-CALDESC:Eventos para Gobernación de Nariño
REFRESH-INTERVAL;VALUE=DURATION:PT1H
X-Robots-Tag:noindex
X-PUBLISHED-TTL:PT1H
BEGIN:VTIMEZONE
TZID:America/New_York
BEGIN:DAYLIGHT
TZOFFSETFROM:-0500
TZOFFSETTO:-0400
TZNAME:EDT
DTSTART:20210314T070000
END:DAYLIGHT
BEGIN:STANDARD
TZOFFSETFROM:-0400
TZOFFSETTO:-0500
TZNAME:EST
DTSTART:20211107T060000
END:STANDARD
END:VTIMEZONE
BEGIN:VEVENT
DTSTART;VALUE=DATE:20210726
DTEND;VALUE=DATE:20210727
DTSTAMP:20260422T043904
CREATED:20210721T162636Z
LAST-MODIFIED:20210721T162636Z
UID:18122-1627257600-1627343999@2020-2023.narino.gov.co
SUMMARY:Día Internacional de la Defensa del Manglar
DESCRIPTION:
URL:https://2020-2023.narino.gov.co/evento/dia-internacional-de-la-defensa-del-manglar/
END:VEVENT
END:VCALENDAR