BEGIN:VCALENDAR
VERSION:2.0
PRODID:-//Gobernación de Nariño - ECPv6.2.9//NONSGML v1.0//EN
CALSCALE:GREGORIAN
METHOD:PUBLISH
X-WR-CALNAME:Gobernación de Nariño
X-ORIGINAL-URL:https://2020-2023.narino.gov.co
X-WR-CALDESC:Eventos para Gobernación de Nariño
REFRESH-INTERVAL;VALUE=DURATION:PT1H
X-Robots-Tag:noindex
X-PUBLISHED-TTL:PT1H
BEGIN:VTIMEZONE
TZID:America/New_York
BEGIN:DAYLIGHT
TZOFFSETFROM:-0500
TZOFFSETTO:-0400
TZNAME:EDT
DTSTART:20220313T070000
END:DAYLIGHT
BEGIN:STANDARD
TZOFFSETFROM:-0400
TZOFFSETTO:-0500
TZNAME:EST
DTSTART:20221106T060000
END:STANDARD
END:VTIMEZONE
BEGIN:VEVENT
DTSTART;VALUE=DATE:20220805
DTEND;VALUE=DATE:20220806
DTSTAMP:20260421T092559
CREATED:20220802T163701Z
LAST-MODIFIED:20220802T163716Z
UID:31871-1659657600-1659743999@2020-2023.narino.gov.co
SUMMARY:Efemérides del departamento de Nariño
DESCRIPTION:Extendemos la invitación a participar este viernes 5 de agosto de la efemérides del Departamento\, al conmemorarse sus 118 años de creación política.\n¡Mi Nariño es lo Nuestro!
URL:https://2020-2023.narino.gov.co/evento/efemerides-del-departamento-de-narino/
ATTACH;FMTTYPE=image/jpeg:https://2020-2023.narino.gov.co/wp-content/uploads/2022/08/WhatsApp-Image-2022-08-02-at-11.28.16-AM.jpeg
END:VEVENT
BEGIN:VEVENT
DTSTART;TZID=America/New_York:20220805T080000
DTEND;TZID=America/New_York:20220805T180000
DTSTAMP:20260421T092559
CREATED:20220802T153304Z
LAST-MODIFIED:20220802T153654Z
UID:31864-1659686400-1659722400@2020-2023.narino.gov.co
SUMMARY:Concurso Afiche Semana de la Juventud
DESCRIPTION:Jóvenes de Mi Nariño  \nEsta es la oportunidad para que demuestren su talento.\nAbrimos convocatoria para la creación del Afiche Oficial de la Semana de la Juventud 2022. \nSi tienes entre 18 y 28 años y resides en nuestro departamento\, envía tu propuesta hasta el 5 de agosto al correo jovenessegis@narino.gov.co \n El mejor diseño se llevara una tableta digitalizadora gráfica\, lápiz recargable y un disco duro externo de 1 tera. \nNo te quedes sin participar.   \nPor un Nariño incluyente para nuestros jóvenes
URL:https://2020-2023.narino.gov.co/evento/concurso-afiche-semana-de-la-juventud/
ATTACH;FMTTYPE=image/jpeg:https://2020-2023.narino.gov.co/wp-content/uploads/2022/08/293826876_372404611689506_230368597949594689_n.jpg
END:VEVENT
END:VCALENDAR