BEGIN:VCALENDAR
VERSION:2.0
PRODID:-//Gobernación de Nariño - ECPv6.2.9//NONSGML v1.0//EN
CALSCALE:GREGORIAN
METHOD:PUBLISH
X-WR-CALNAME:Gobernación de Nariño
X-ORIGINAL-URL:https://2020-2023.narino.gov.co
X-WR-CALDESC:Eventos para Gobernación de Nariño
REFRESH-INTERVAL;VALUE=DURATION:PT1H
X-Robots-Tag:noindex
X-PUBLISHED-TTL:PT1H
BEGIN:VTIMEZONE
TZID:America/New_York
BEGIN:DAYLIGHT
TZOFFSETFROM:-0500
TZOFFSETTO:-0400
TZNAME:EDT
DTSTART:20220313T070000
END:DAYLIGHT
BEGIN:STANDARD
TZOFFSETFROM:-0400
TZOFFSETTO:-0500
TZNAME:EST
DTSTART:20221106T060000
END:STANDARD
END:VTIMEZONE
BEGIN:VEVENT
DTSTART;TZID=America/New_York:20220922T080000
DTEND;TZID=America/New_York:20220924T190000
DTSTAMP:20260421T075902
CREATED:20220802T152634Z
LAST-MODIFIED:20220802T152634Z
UID:31861-1663833600-1664046000@2020-2023.narino.gov.co
SUMMARY:La Mejor Taza de Mi Nariño
DESCRIPTION:Este 22\,23 y 24 de septiembre te invitamos a vivir una experiencia inolvidable. \nLa Feria de Café más importante del Sur de Colombia. \n¡Te esperamos! \nSectores participantes: \nTurismo y Cacao. \nMuseo Casona Taminango.
URL:https://2020-2023.narino.gov.co/evento/la-mejor-taza-de-mi-narino/
ATTACH;FMTTYPE=image/jpeg:https://2020-2023.narino.gov.co/wp-content/uploads/2022/08/AFICHE-OFI.-01-scaled.jpg
END:VEVENT
END:VCALENDAR