BEGIN:VCALENDAR
VERSION:2.0
PRODID:-//Gobernación de Nariño - ECPv6.2.9//NONSGML v1.0//EN
CALSCALE:GREGORIAN
METHOD:PUBLISH
X-WR-CALNAME:Gobernación de Nariño
X-ORIGINAL-URL:https://2020-2023.narino.gov.co
X-WR-CALDESC:Eventos para Gobernación de Nariño
REFRESH-INTERVAL;VALUE=DURATION:PT1H
X-Robots-Tag:noindex
X-PUBLISHED-TTL:PT1H
BEGIN:VTIMEZONE
TZID:America/New_York
BEGIN:DAYLIGHT
TZOFFSETFROM:-0500
TZOFFSETTO:-0400
TZNAME:EDT
DTSTART:20230312T070000
END:DAYLIGHT
BEGIN:STANDARD
TZOFFSETFROM:-0400
TZOFFSETTO:-0500
TZNAME:EST
DTSTART:20231105T060000
END:STANDARD
END:VTIMEZONE
BEGIN:VEVENT
DTSTART;TZID=America/New_York:20230728T080000
DTEND;TZID=America/New_York:20230728T170000
DTSTAMP:20260420T154623
CREATED:20230906T200438Z
LAST-MODIFIED:20230906T200438Z
UID:44368-1690531200-1690563600@2020-2023.narino.gov.co
SUMMARY:Talleres pedagógicos. Construcción de la política pública de paz – DDHH – justicia departamento de Nariño.
DESCRIPTION:
URL:https://2020-2023.narino.gov.co/evento/talleres-pedagogicos-construccion-de-la-politica-publica-de-paz-ddhh-justicia-departamento-de-narino-4/
END:VEVENT
END:VCALENDAR