BEGIN:VCALENDAR
VERSION:2.0
PRODID:-//Gobernación de Nariño - ECPv6.2.9//NONSGML v1.0//EN
CALSCALE:GREGORIAN
METHOD:PUBLISH
X-ORIGINAL-URL:https://2020-2023.narino.gov.co
X-WR-CALDESC:Eventos para Gobernación de Nariño
REFRESH-INTERVAL;VALUE=DURATION:PT1H
X-Robots-Tag:noindex
X-PUBLISHED-TTL:PT1H
BEGIN:VTIMEZONE
TZID:America/New_York
BEGIN:DAYLIGHT
TZOFFSETFROM:-0500
TZOFFSETTO:-0400
TZNAME:EDT
DTSTART:20230312T070000
END:DAYLIGHT
BEGIN:STANDARD
TZOFFSETFROM:-0400
TZOFFSETTO:-0500
TZNAME:EST
DTSTART:20231105T060000
END:STANDARD
END:VTIMEZONE
BEGIN:VEVENT
DTSTART;TZID=America/New_York:20230918T080000
DTEND;TZID=America/New_York:20231004T170000
DTSTAMP:20260420T105605
CREATED:20230918T143744Z
LAST-MODIFIED:20230918T143744Z
UID:44486-1695024000-1696438800@2020-2023.narino.gov.co
SUMMARY:El Simulacro es un Buen Plan
DESCRIPTION:En taller virtual de asistencia técnica la Dirección Administrativa de Gestión del Riesgo de Desastres con los 64 Coordinadores Municipales para la Gestión del Riesgo de Desastres\, representantes de los Cuerpos de Bomberos Voluntarios\, Juntas de Defensa Civil\, Direcciones Locales de Salud\, se realizó la presentación sobre amenaza sísmica por parte del Servicio Geológico Colombiano\, amenaza por tsunami por parte de la DIMAR. \n\nAsí mismo\, se socializó los lineamientos de preparación y coordinación de actividades para el simulacro nacional de respuesta a emergencias\, que se realizará el próximo 4 de octubre de 2023 a partir de las 10:00 de la mañana\, ejercicio en el que se espera la vinculación de los 64 municipios\, con la participación del sector público\, privado y comunitario.\n\n\nLas entidades interesadas en participar deben contactar a los coordinadores municipales de gestión del riesgo de desastres. El cierre de inscripciones finaliza el viernes 22 de septiembre de 2023.
URL:https://2020-2023.narino.gov.co/evento/el-simulacro-es-un-buen-plan/
END:VEVENT
END:VCALENDAR