BEGIN:VCALENDAR
VERSION:2.0
PRODID:-//Gobernación de Nariño - ECPv6.2.9//NONSGML v1.0//EN
CALSCALE:GREGORIAN
METHOD:PUBLISH
X-WR-CALNAME:Gobernación de Nariño
X-ORIGINAL-URL:https://2020-2023.narino.gov.co
X-WR-CALDESC:Eventos para Gobernación de Nariño
REFRESH-INTERVAL;VALUE=DURATION:PT1H
X-Robots-Tag:noindex
X-PUBLISHED-TTL:PT1H
BEGIN:VTIMEZONE
TZID:America/New_York
BEGIN:DAYLIGHT
TZOFFSETFROM:-0500
TZOFFSETTO:-0400
TZNAME:EDT
DTSTART:20200308T070000
END:DAYLIGHT
BEGIN:STANDARD
TZOFFSETFROM:-0400
TZOFFSETTO:-0500
TZNAME:EST
DTSTART:20201101T060000
END:STANDARD
END:VTIMEZONE
BEGIN:VEVENT
DTSTART;TZID=America/New_York:20201106T080000
DTEND;TZID=America/New_York:20201106T170000
DTSTAMP:20260422T170231
CREATED:20201112T192725Z
LAST-MODIFIED:20201112T192725Z
UID:5033-1604649600-1604682000@2020-2023.narino.gov.co
SUMMARY:La Gobernación de Nariño reitera la invitación a inscribirse en el primer concurso departamental de oratoria en Derechos Humanos\, Libertad Religiosa y de Cultos
DESCRIPTION:La Gobernación de Nariño reitera la invitación a inscribirse en el primer concurso departamental de oratoria en Derechos Humanos\, Libertad Religiosa y de Cultos
URL:https://2020-2023.narino.gov.co/evento/la-gobernacion-de-narino-reitera-la-invitacion-a-inscribirse-en-el-primer-concurso-departamental-de-oratoria-en-derechos-humanos-libertad-religiosa-y-de-cultos/
END:VEVENT
BEGIN:VEVENT
DTSTART;TZID=America/New_York:20201113T080000
DTEND;TZID=America/New_York:20201113T170000
DTSTAMP:20260422T170231
CREATED:20201112T180106Z
LAST-MODIFIED:20201112T192518Z
UID:4969-1605254400-1605286800@2020-2023.narino.gov.co
SUMMARY:Lanzamiento de los 13 living lab
DESCRIPTION:Lanzamiento living lab en los 13 municipios el 27 de noviembre\, coordinando desde el municipio Samaniego. \n 
URL:https://2020-2023.narino.gov.co/evento/hoy-juega-el-super-pasto/
LOCATION:Palacio de la Gobernación de Nariño\, Cl. 19 #25-02\, Pasto\, Nariño\, Pasto\, Nariño\, Colombia
END:VEVENT
BEGIN:VEVENT
DTSTART;TZID=America/New_York:20201113T170000
DTEND;TZID=America/New_York:20201113T220000
DTSTAMP:20260422T170231
CREATED:20201112T192421Z
LAST-MODIFIED:20201112T192421Z
UID:5030-1605286800-1605304800@2020-2023.narino.gov.co
SUMMARY:Concierto virtual de la Banda Sinfónica de Nariño
DESCRIPTION:Concierto virtual de la Banda Sinfónica Departamental de Nariño\, viernes 13 de noviembre a partir de las 5:00 pm\, a través del Facebook live de la Gobernación de Nariño.
URL:https://2020-2023.narino.gov.co/evento/concierto-virtual-de-la-banda-sinfonica-de-narino/
LOCATION:Palacio de la Gobernación de Nariño\, Cl. 19 #25-02\, Pasto\, Nariño\, Pasto\, Nariño\, Colombia
END:VEVENT
BEGIN:VEVENT
DTSTART;TZID=America/New_York:20201118T080000
DTEND;TZID=America/New_York:20201119T170000
DTSTAMP:20260422T170231
CREATED:20201117T161030Z
LAST-MODIFIED:20201117T161129Z
UID:6228-1605686400-1605805200@2020-2023.narino.gov.co
SUMMARY:Foro de participación comunitaria
DESCRIPTION:El foro se enfoca a reconocer y visibilizar los procesos organizativos y estrategias comunitarias\, como una apuesta en defensa de los derechos de las comunidades a tener una alimentación de calidad\, sostenible con el ambiente y que permita aumentar la producción y productividad de alimentos para el desarrollo económico y social de las comunidades.
URL:https://2020-2023.narino.gov.co/evento/foro-de-participacion-comunitaria/
LOCATION:Palacio de la Gobernación de Nariño\, Cl. 19 #25-02\, Pasto\, Nariño\, Pasto\, Nariño\, Colombia
END:VEVENT
BEGIN:VEVENT
DTSTART;TZID=America/New_York:20201120T080000
DTEND;TZID=America/New_York:20201120T170000
DTSTAMP:20260422T170231
CREATED:20201117T161331Z
LAST-MODIFIED:20201117T161331Z
UID:6231-1605859200-1605891600@2020-2023.narino.gov.co
SUMMARY:Concierto virtual de la Banda Sinfónica de Nariño
DESCRIPTION:Concierto virtual de la Banda Sinfónica Departamental de Nariño\, viernes 13 de noviembre a partir de las 5:00 pm\, a través del Facebook live de la Gobernación de Nariño.
URL:https://2020-2023.narino.gov.co/evento/concierto-virtual-de-la-banda-sinfonica-de-narino-2/
LOCATION:Palacio de la Gobernación de Nariño\, Cl. 19 #25-02\, Pasto\, Nariño\, Pasto\, Nariño\, Colombia
END:VEVENT
BEGIN:VEVENT
DTSTART;TZID=America/New_York:20201123T080000
DTEND;TZID=America/New_York:20201123T170000
DTSTAMP:20260422T170231
CREATED:20201117T161611Z
LAST-MODIFIED:20201117T162029Z
UID:6233-1606118400-1606150800@2020-2023.narino.gov.co
SUMMARY:Campaña para promover el consumo de papa nariñense.
DESCRIPTION:Campaña liderada por la Secretaría de Agricultura para promover el consumo de papa nariñense.
URL:https://2020-2023.narino.gov.co/evento/campana-para-promover-el-consumo-de-papa-narinense-2/
LOCATION:Palacio de la Gobernación de Nariño\, Cl. 19 #25-02\, Pasto\, Nariño\, Pasto\, Nariño\, Colombia
END:VEVENT
BEGIN:VEVENT
DTSTART;TZID=America/New_York:20201123T080000
DTEND;TZID=America/New_York:20201223T180000
DTSTAMP:20260422T170231
CREATED:20201112T193251Z
LAST-MODIFIED:20201117T162457Z
UID:5037-1606118400-1608746400@2020-2023.narino.gov.co
SUMMARY:Campaña para promover el consumo de papa nariñense.
DESCRIPTION:Campaña liderada por la Secretaría de Agricultura para promover el consumo de papa nariñense.
URL:https://2020-2023.narino.gov.co/evento/campana-para-promover-el-consumo-de-papa-narinense/
LOCATION:Palacio de la Gobernación de Nariño\, Cl. 19 #25-02\, Pasto\, Nariño\, Pasto\, Nariño\, Colombia
END:VEVENT
BEGIN:VEVENT
DTSTART;TZID=America/New_York:20201130T080000
DTEND;TZID=America/New_York:20201130T170000
DTSTAMP:20260422T170231
CREATED:20201112T192940Z
LAST-MODIFIED:20201112T192940Z
UID:5035-1606723200-1606755600@2020-2023.narino.gov.co
SUMMARY:Nos vestimos de esperanza
DESCRIPTION:¡En Nariño\, “Nos vestimos de esperanza”! \n\nÚnete a esta bonita campaña para dignificar la vida de las y los habitantes de calle. Realice sus donaciones de ropa en excelente estado hasta el próximo 30 de noviembre.\n\n\n\n\n\nPorque somos una comunidad solidaria que apoya las causas sociales de nuestra comunidad vulnerable.
URL:https://2020-2023.narino.gov.co/evento/nos-vestimos-de-esperanza/
LOCATION:Palacio de la Gobernación de Nariño\, Cl. 19 #25-02\, Pasto\, Nariño\, Pasto\, Nariño\, Colombia
END:VEVENT
BEGIN:VEVENT
DTSTART;TZID=America/New_York:20201130T080000
DTEND;TZID=America/New_York:20201130T170000
DTSTAMP:20260422T170231
CREATED:20201117T161830Z
LAST-MODIFIED:20201117T161830Z
UID:6235-1606723200-1606755600@2020-2023.narino.gov.co
SUMMARY:Colchas de la memoria
DESCRIPTION:El próximo 30 de noviembre en la plazoleta de la Gobernación de Nariño\, se realizará una exposición de las colchas de la memoria elaboradas por integrantes de las diferentes asociaciones de los municipios de Ipiales\, Cumbal y Tumaco.
URL:https://2020-2023.narino.gov.co/evento/colchas-de-la-memoria/
LOCATION:Palacio de la Gobernación de Nariño\, Cl. 19 #25-02\, Pasto\, Nariño\, Pasto\, Nariño\, Colombia
END:VEVENT
END:VCALENDAR