BEGIN:VCALENDAR
VERSION:2.0
PRODID:-//Gobernación de Nariño - ECPv6.2.9//NONSGML v1.0//EN
CALSCALE:GREGORIAN
METHOD:PUBLISH
X-ORIGINAL-URL:https://2020-2023.narino.gov.co
X-WR-CALDESC:Eventos para Gobernación de Nariño
REFRESH-INTERVAL;VALUE=DURATION:PT1H
X-Robots-Tag:noindex
X-PUBLISHED-TTL:PT1H
BEGIN:VTIMEZONE
TZID:America/New_York
BEGIN:DAYLIGHT
TZOFFSETFROM:-0500
TZOFFSETTO:-0400
TZNAME:EDT
DTSTART:20210314T070000
END:DAYLIGHT
BEGIN:STANDARD
TZOFFSETFROM:-0400
TZOFFSETTO:-0500
TZNAME:EST
DTSTART:20211107T060000
END:STANDARD
END:VTIMEZONE
BEGIN:VEVENT
DTSTART;TZID=America/New_York:20210413T170000
DTEND;TZID=America/New_York:20210413T190000
DTSTAMP:20260422T092025
CREATED:20210412T153246Z
LAST-MODIFIED:20210412T153303Z
UID:13070-1618333200-1618340400@2020-2023.narino.gov.co
SUMMARY:Taller sobre robótica básica
DESCRIPTION:El equipo de #ZonaCentro CatiNar\, invita a la comunidad del municipio de Linares\, a participar en el encuentro de saberes del taller gratuito de “Robótica básica I” en pro de la apropiación de la ciencia\, la tecnología y la innovación\, en procesos de crecimiento de la calidad educativa\, el desarrollo de nuevas habilidades\, la lógica del movimiento y el trabajo en equipo.\nSi desea inscribirse puede comunicarse directamente con la facilitadora de Linares Janeth Ruales a través del celular 3142125175.\nBienvenidos a este viaje al siglo XXI
URL:https://2020-2023.narino.gov.co/evento/taller-sobre-robotica-basica/
END:VEVENT
BEGIN:VEVENT
DTSTART;TZID=America/New_York:20210414T183000
DTEND;TZID=America/New_York:20210414T200000
DTSTAMP:20260422T092025
CREATED:20210412T154158Z
LAST-MODIFIED:20210412T155134Z
UID:13075-1618425000-1618430400@2020-2023.narino.gov.co
SUMMARY:Conversatorio Jeremías Quintero
DESCRIPTION:Jeremías Quintero es un compositor nariñense “conocido por recoger la tradición oral expresada en nanas y cantos que se entonaban en la aurífera ciudad de Barbacoas\, donde corre plácido el verde Telembí”.  \nConéctate a este conversatorio y descubre más de las creaciones y cultura de nuestro pacífico nariñense.\n➡️ La cita es el 14 de abril a las 6:30 p. m.\n➡️ Vía #FacebookLive Dirección Administrativa de Cultura de Nariño
URL:https://2020-2023.narino.gov.co/evento/conversatorio-jeremias-quintero/
END:VEVENT
BEGIN:VEVENT
DTSTART;VALUE=DATE:20210422
DTEND;VALUE=DATE:20210423
DTSTAMP:20260422T092025
CREATED:20210412T152819Z
LAST-MODIFIED:20210412T152819Z
UID:13059-1619049600-1619135999@2020-2023.narino.gov.co
SUMMARY:Día Mundial de la Madre Tierra
DESCRIPTION:Día Mundial de la Madre Tierra
URL:https://2020-2023.narino.gov.co/evento/dia-mundial-de-la-madre-tierra/
END:VEVENT
BEGIN:VEVENT
DTSTART;VALUE=DATE:20210423
DTEND;VALUE=DATE:20210424
DTSTAMP:20260422T092025
CREATED:20210412T152940Z
LAST-MODIFIED:20210412T152940Z
UID:13061-1619136000-1619222399@2020-2023.narino.gov.co
SUMMARY:Día del Libro y del Idioma
DESCRIPTION:Día Mundial del Libro y del Idioma
URL:https://2020-2023.narino.gov.co/evento/dia-del-libro-y-del-idioma/
END:VEVENT
BEGIN:VEVENT
DTSTART;VALUE=DATE:20210424
DTEND;VALUE=DATE:20210425
DTSTAMP:20260422T092025
CREATED:20210412T153006Z
LAST-MODIFIED:20210412T153006Z
UID:13063-1619222400-1619308799@2020-2023.narino.gov.co
SUMMARY:Día del Niño y la Niña
DESCRIPTION:Día del Niño y la Niña
URL:https://2020-2023.narino.gov.co/evento/dia-del-nino-y-la-nina/
END:VEVENT
BEGIN:VEVENT
DTSTART;VALUE=DATE:20210426
DTEND;VALUE=DATE:20210427
DTSTAMP:20260422T092025
CREATED:20210412T153030Z
LAST-MODIFIED:20210412T153030Z
UID:13065-1619395200-1619481599@2020-2023.narino.gov.co
SUMMARY:Día de la Secretaria
DESCRIPTION:Día de la Secretaria
URL:https://2020-2023.narino.gov.co/evento/dia-de-la-secretaria/
END:VEVENT
BEGIN:VEVENT
DTSTART;VALUE=DATE:20210427
DTEND;VALUE=DATE:20210428
DTSTAMP:20260422T092025
CREATED:20210412T153103Z
LAST-MODIFIED:20210412T153103Z
UID:13068-1619481600-1619567999@2020-2023.narino.gov.co
SUMMARY:Día del diseñador
DESCRIPTION:Día del diseñador
URL:https://2020-2023.narino.gov.co/evento/dia-del-disenador/
END:VEVENT
END:VCALENDAR