BEGIN:VCALENDAR
VERSION:2.0
PRODID:-//Gobernación de Nariño - ECPv6.2.9//NONSGML v1.0//EN
CALSCALE:GREGORIAN
METHOD:PUBLISH
X-WR-CALNAME:Gobernación de Nariño
X-ORIGINAL-URL:https://2020-2023.narino.gov.co
X-WR-CALDESC:Eventos para Gobernación de Nariño
REFRESH-INTERVAL;VALUE=DURATION:PT1H
X-Robots-Tag:noindex
X-PUBLISHED-TTL:PT1H
BEGIN:VTIMEZONE
TZID:America/New_York
BEGIN:DAYLIGHT
TZOFFSETFROM:-0500
TZOFFSETTO:-0400
TZNAME:EDT
DTSTART:20220313T070000
END:DAYLIGHT
BEGIN:STANDARD
TZOFFSETFROM:-0400
TZOFFSETTO:-0500
TZNAME:EST
DTSTART:20221106T060000
END:STANDARD
END:VTIMEZONE
BEGIN:VEVENT
DTSTART;TZID=America/New_York:20220930T080000
DTEND;TZID=America/New_York:20221001T170000
DTSTAMP:20260421T045819
CREATED:20220817T160928Z
LAST-MODIFIED:20221121T220720Z
UID:32139-1664524800-1664643600@2020-2023.narino.gov.co
SUMMARY:Una Voz - Acciones por los Animales y el Ambiente
DESCRIPTION:Se acerca el evento más esperado del año Una Voz “Acciones por los Animales y el Ambiente”\, esta vez desde uno de los municipios cafeteros de Mi Nariño\, Buesaco. \nPendientes de nuestras redes para conocer toda la programación de este evento en pro de nuestra naturaleza y animales.
URL:https://2020-2023.narino.gov.co/evento/una-voz-acciones-por-los-animales-y-el-ambiente/
LOCATION:Buesaco Nariño
CATEGORIES:General
ATTACH;FMTTYPE=image/jpeg:https://2020-2023.narino.gov.co/wp-content/uploads/2022/08/Sin-titulo-4.jpg
END:VEVENT
END:VCALENDAR