BEGIN:VCALENDAR
VERSION:2.0
PRODID:-//Gobernación de Nariño - ECPv6.2.9//NONSGML v1.0//EN
CALSCALE:GREGORIAN
METHOD:PUBLISH
X-ORIGINAL-URL:https://2020-2023.narino.gov.co
X-WR-CALDESC:Eventos para Gobernación de Nariño
REFRESH-INTERVAL;VALUE=DURATION:PT1H
X-Robots-Tag:noindex
X-PUBLISHED-TTL:PT1H
BEGIN:VTIMEZONE
TZID:America/New_York
BEGIN:DAYLIGHT
TZOFFSETFROM:-0500
TZOFFSETTO:-0400
TZNAME:EDT
DTSTART:20220313T070000
END:DAYLIGHT
BEGIN:STANDARD
TZOFFSETFROM:-0400
TZOFFSETTO:-0500
TZNAME:EST
DTSTART:20221106T060000
END:STANDARD
END:VTIMEZONE
BEGIN:VEVENT
DTSTART;VALUE=DATE:20221125
DTEND;VALUE=DATE:20221126
DTSTAMP:20260421T030614
CREATED:20221125T162919Z
LAST-MODIFIED:20221125T162954Z
UID:35837-1669334400-1669420799@2020-2023.narino.gov.co
SUMMARY:VIII Asamblea Departamental de Cambio Climático de Nariño
DESCRIPTION:Invitamos a todos los nariñenses a la VIII Asamblea Departamental de Cambio Climático de Nariño\, con el objetivo de fortalecer el vínculo interinstitucional además de desarrollar estrategias y medidas para la mitigación y reducción del Cambio Climático. \nLa cita es este 29 de noviembre a las 8:30 a.m en el auditorio Aurelio Arturo de la Univerisidad Cooperativa de Colombia.
URL:https://2020-2023.narino.gov.co/evento/viii-asamblea-departamental-de-cambio-climatico-de-narino/
ATTACH;FMTTYPE=image/jpeg:https://2020-2023.narino.gov.co/wp-content/uploads/2022/11/WhatsApp-Image-2022-11-25-at-10.20.10-AM.jpeg
END:VEVENT
BEGIN:VEVENT
DTSTART;TZID=America/New_York:20221125T080000
DTEND;TZID=America/New_York:20221125T170000
DTSTAMP:20260421T030614
CREATED:20221125T163541Z
LAST-MODIFIED:20221125T163541Z
UID:35840-1669363200-1669395600@2020-2023.narino.gov.co
SUMMARY:Travesía Las Ánimas
DESCRIPTION:Si existe una palabra para describir esta edición de En Bici Por Nariño es AVENTURA\, pero no una cualquiera\, una aventura llena de lugares mágicos que sacarán lo mejor de ti. ¿Quieres descubrir de lo que eres capaz?\n\n\n\n\n\nNo te pierdas el lanzamiento virtual de La Travesía Las Ánimas\, Un Recorrido Ancestral. Las inscripciones abrirán ese día\, ¿te lo vas a perder? Recuerda que son cupos limitados.
URL:https://2020-2023.narino.gov.co/evento/travesia-las-animas/
ATTACH;FMTTYPE=image/jpeg:https://2020-2023.narino.gov.co/wp-content/uploads/2022/11/315803275_504061475098993_6254707377813036719_n.jpg
END:VEVENT
BEGIN:VEVENT
DTSTART;TZID=America/New_York:20221125T080000
DTEND;TZID=America/New_York:20221210T170000
DTSTAMP:20260421T030614
CREATED:20221125T164443Z
LAST-MODIFIED:20221125T164501Z
UID:35847-1669363200-1670691600@2020-2023.narino.gov.co
SUMMARY:16 días de activismo para poner fin a la violencia contra las mujeres y niñas de Nariño
DESCRIPTION:El momento es ahora ¡UNETE\, para poner fin a las violencias contra las mujeres\, adolescentes y niñas de Mi Nariño\n\n\n\n25 de noviembre Día Internacional de la Eliminación de la violencia contra las Mujeres y las Niñas\n\n\n\nCómo gobierno departamental reconocemos el papel que cada mujer desarrolla día a día por los derechos y la prevención de todo tipo de violencias en el departamento.
URL:https://2020-2023.narino.gov.co/evento/16-dias-de-activismo-para-poner-fin-a-la-violencia-contra-las-mujeres-y-ninas-de-narino/
ATTACH;FMTTYPE=image/jpeg:https://2020-2023.narino.gov.co/wp-content/uploads/2022/11/WhatsApp-Image-2022-11-25-at-8.08.10-AM.jpeg
END:VEVENT
BEGIN:VEVENT
DTSTART;TZID=America/New_York:20221125T160000
DTEND;TZID=America/New_York:20221125T170000
DTSTAMP:20260421T030614
CREATED:20221125T163822Z
LAST-MODIFIED:20221125T163822Z
UID:35845-1669392000-1669395600@2020-2023.narino.gov.co
SUMMARY:Banda Sinfónica Departamental de Nariño ofrecerá concierto Especial en la Catedral de Pasto
DESCRIPTION:La Gobernación de Nariño\, a través de la Dirección Administrativa de Cultura\, les extiende la cordial invitación al Concierto Especial de la Banda Sinfónica Departamental de Nariño\, que tendrá lugar este 25 de noviembre en la Catedral de Pasto a partir de la 4:00 de la tarde.
URL:https://2020-2023.narino.gov.co/evento/banda-sinfonica-departamental-de-narino-ofrecera-concierto-especial-en-la-catedral-de-pasto/
END:VEVENT
BEGIN:VEVENT
DTSTART;TZID=America/New_York:20221129T080000
DTEND;TZID=America/New_York:20221209T170000
DTSTAMP:20260421T030614
CREATED:20221125T163722Z
LAST-MODIFIED:20230316T201213Z
UID:35843-1669708800-1670605200@2020-2023.narino.gov.co
SUMMARY:Casa de la Cultura de Nariño Invita a la exposición Tres Miradas
DESCRIPTION:La Gobernación de Nariño\, a través de la Dirección Administrativa de Cultura del Departamento\, extiende la invitación a la exposición artística denominada ‘Tres Miradas’ que se encontrará a partir del viernes 25 de noviembre hasta el 9 de diciembre en la Casa de la Cultura de Nariño
URL:https://2020-2023.narino.gov.co/evento/casa-de-la-cultura-de-narino-invita-a-la-exposicion-tres-miradas/
END:VEVENT
END:VCALENDAR