BEGIN:VCALENDAR
VERSION:2.0
PRODID:-//Gobernación de Nariño - ECPv6.2.9//NONSGML v1.0//EN
CALSCALE:GREGORIAN
METHOD:PUBLISH
X-ORIGINAL-URL:https://2020-2023.narino.gov.co
X-WR-CALDESC:Eventos para Gobernación de Nariño
REFRESH-INTERVAL;VALUE=DURATION:PT1H
X-Robots-Tag:noindex
X-PUBLISHED-TTL:PT1H
BEGIN:VTIMEZONE
TZID:America/New_York
BEGIN:DAYLIGHT
TZOFFSETFROM:-0500
TZOFFSETTO:-0400
TZNAME:EDT
DTSTART:20230312T070000
END:DAYLIGHT
BEGIN:STANDARD
TZOFFSETFROM:-0400
TZOFFSETTO:-0500
TZNAME:EST
DTSTART:20231105T060000
END:STANDARD
END:VTIMEZONE
BEGIN:VEVENT
DTSTART;TZID=America/New_York:20230801T080000
DTEND;TZID=America/New_York:20230801T170000
DTSTAMP:20260420T122733
CREATED:20230906T200855Z
LAST-MODIFIED:20230906T200855Z
UID:44370-1690876800-1690909200@2020-2023.narino.gov.co
SUMMARY:Talleres pedagógicos. Construcción de la política pública de paz – DDHH – justicia  departamento de Nariño.
DESCRIPTION:
URL:https://2020-2023.narino.gov.co/evento/talleres-pedagogicos-construccion-de-la-politica-publica-de-paz-ddhh-justicia-departamento-de-narino-5/
END:VEVENT
BEGIN:VEVENT
DTSTART;TZID=America/New_York:20230811T080000
DTEND;TZID=America/New_York:20230812T170000
DTSTAMP:20260420T122733
CREATED:20230825T171550Z
LAST-MODIFIED:20230825T171550Z
UID:44100-1691740800-1691859600@2020-2023.narino.gov.co
SUMMARY:CAMPEONATO DE FÚTBOL CINCO REGIONAL CAFETERO 2023
DESCRIPTION:En La Mejor Taza de Café Mí Nariño Internacional 2023 tenemos el Torneo de fútbol 5 de caficultores que se desarrollará los días 11 y 12 de agosto en la Cancha Sintética Monumental de la Ciudad de Pasto.
URL:https://2020-2023.narino.gov.co/evento/campeonato-de-futbol-cinco-regional-cafetero-2023/
END:VEVENT
BEGIN:VEVENT
DTSTART;TZID=America/New_York:20230811T083000
DTEND;TZID=America/New_York:20230811T170000
DTSTAMP:20260420T122733
CREATED:20230825T171745Z
LAST-MODIFIED:20230825T171745Z
UID:44103-1691742600-1691773200@2020-2023.narino.gov.co
SUMMARY:Ideatón Por El Trabajo Decente
DESCRIPTION:Llega a #Nariño la #IdeatónPorElTrabajoDecente iniciativa liderada por la #OIT @Organización Internacional del Trabajo con el apoyo de la @Gobernación de Nariño \nBuscamos que nuestros jóvenes propongan ideas para derribar las barreras que impiden acceder a un trabajo decente\, quienes lograrán el ingreso a programas de financiación para realizar y asistir a eventos nacionales e internacionales para su apalancamiento. \nLos esperamos este 11 de agosto @Cámara de Comercio de Pasto
URL:https://2020-2023.narino.gov.co/evento/ideaton-por-el-trabajo-decente/
END:VEVENT
BEGIN:VEVENT
DTSTART;TZID=America/New_York:20230812T080000
DTEND;TZID=America/New_York:20230812T170000
DTSTAMP:20260420T122733
CREATED:20230825T165911Z
LAST-MODIFIED:20230825T165911Z
UID:44094-1691827200-1691859600@2020-2023.narino.gov.co
SUMMARY:Día Internacional de la Juventud
DESCRIPTION:Hoy resaltamos los liderazgos que transforman y nos acompañan a la construcción de un #Nariño más Incluyente y Competitivo. \nGracias Jóvenes de los 64 municipios por su trabajo y aporte\, ideas\, sueños e iniciativas. \nde agosto\, día Internacional de la Juventud
URL:https://2020-2023.narino.gov.co/evento/dia-internacional-de-la-juventud/
END:VEVENT
BEGIN:VEVENT
DTSTART;TZID=America/New_York:20230815T080000
DTEND;TZID=America/New_York:20230815T170000
DTSTAMP:20260420T122733
CREATED:20230825T155217Z
LAST-MODIFIED:20230825T155217Z
UID:44065-1692086400-1692118800@2020-2023.narino.gov.co
SUMMARY:Día de panelero
DESCRIPTION:A través de la Secretaría de Agricultura y Desarrollo Rural Nariño en este día especial\, felicitamos a las y los productores de panela de #MiNariño. Su dedicación y esfuerzo transforman la caña en la dulce esencia de la vida. La panela\, un alimento ancestral es fuente de vida para innumerables familias alrededor del mundo.
URL:https://2020-2023.narino.gov.co/evento/dia-de-panelero/
END:VEVENT
BEGIN:VEVENT
DTSTART;TZID=America/New_York:20230815T080000
DTEND;TZID=America/New_York:20230815T170000
DTSTAMP:20260420T122733
CREATED:20230825T161418Z
LAST-MODIFIED:20230825T161418Z
UID:44077-1692086400-1692118800@2020-2023.narino.gov.co
SUMMARY:Hicimos la Tarea
DESCRIPTION:Hicimos la Tarea ¡La Gestión Pública\, es lo nuestro!¿ Sabías que? A través de este proyecto\, se identificaron 12 líneas productivas fortalecidas para hacerle frente a la expansión de los cultivos ilícitos (café\, aguacate\, tomate de invernadero\, panela\, lima acida Tahiti\, caña panelera\, plátano\, ganadería doble propósito\, lácteo\, avícola\, cuyes) Además\, se identificaron 14 organizaciones en diez (10) municipios del departamento de Nariño\, con iniciativas en las líneas productivas priorizadas: (Providencia\, Guaitarilla\, Córdoba\, Ipiales\, Cumbal\, Barbacoas\, Buesaco\, Rosario\, Leiva\, Policarpa)
URL:https://2020-2023.narino.gov.co/evento/hicimos-la-tarea/
END:VEVENT
BEGIN:VEVENT
DTSTART;TZID=America/New_York:20230815T080000
DTEND;TZID=America/New_York:20230815T170000
DTSTAMP:20260420T122733
CREATED:20230825T165420Z
LAST-MODIFIED:20230825T165420Z
UID:44087-1692086400-1692118800@2020-2023.narino.gov.co
SUMMARY:Hicimos la Tarea Tumaco
DESCRIPTION:A través de la Subsecretaria de Paz y Derechos Humanos\, te invitamos a conocer cómo la comunidad del Barrio El Bajito en Tumaco se beneficia con la CONSTRUCCIÓN DE INFRAESTRUCTURA SOCIAL \nAgéndate!! \nTe esperamos en día 15 de agosto de 2023 a las 08:00 a.m. Barrio el Bajito\, en el Municipio de Tumaco.
URL:https://2020-2023.narino.gov.co/evento/hicimos-la-tarea-tumaco/
END:VEVENT
BEGIN:VEVENT
DTSTART;TZID=America/New_York:20230815T150000
DTEND;TZID=America/New_York:20230815T170000
DTSTAMP:20260420T122733
CREATED:20230825T161729Z
LAST-MODIFIED:20230825T161729Z
UID:44080-1692111600-1692118800@2020-2023.narino.gov.co
SUMMARY:Disminución de la Matricula Contratada en Nariño
DESCRIPTION:A través de nuestra Secretaría de Educación Departamental invitamos a toda la comunidad educativa a participar del Espacio de Dialogo de Rendición de Cuentas del proyecto denominado: “Disminución de la Matricula Contratada en Nariño”
URL:https://2020-2023.narino.gov.co/evento/disminucion-de-la-matricula-contratada-en-narino/
END:VEVENT
BEGIN:VEVENT
DTSTART;TZID=America/New_York:20230819T080000
DTEND;TZID=America/New_York:20230819T170000
DTSTAMP:20260420T122733
CREATED:20230825T160401Z
LAST-MODIFIED:20230825T160401Z
UID:44074-1692432000-1692464400@2020-2023.narino.gov.co
SUMMARY:Inauguración de la Ciclovía Recreativa del municipio
DESCRIPTION:Invitamos a toda la comunidad de #LaCruz a participar en la Inauguración de la Ciclovía Recreativa del municipio\, este sábado 19 de agosto. Estaremos concentrados desde las 8:00 am en el Polideportivo del municipio realizando las siguientes actividades.
URL:https://2020-2023.narino.gov.co/evento/inauguracion-de-la-ciclovia-recreativa-del-municipio/
END:VEVENT
BEGIN:VEVENT
DTSTART;TZID=America/New_York:20230823T140000
DTEND;TZID=America/New_York:20230823T170000
DTSTAMP:20260420T122733
CREATED:20230825T165657Z
LAST-MODIFIED:20230825T165657Z
UID:44091-1692799200-1692810000@2020-2023.narino.gov.co
SUMMARY:Ruta de la Formalización
DESCRIPTION:La Ruta de Formalización llega a #Ipiales \n¿Eres emprendedor y buscas crecer de manera organizada? ¡Tenemos la solución perfecta para ti! \nNuestro programa\, Ruta de la Formalización\, te brinda la oportunidad de aumentar la productividad\, elevar tus ventas y conquistar nuevos mercados a través de los beneficios del programa
URL:https://2020-2023.narino.gov.co/evento/ruta-de-la-formalizacion/
END:VEVENT
BEGIN:VEVENT
DTSTART;TZID=America/New_York:20230831T080000
DTEND;TZID=America/New_York:20230831T170000
DTSTAMP:20260420T122733
CREATED:20230825T155831Z
LAST-MODIFIED:20230825T155831Z
UID:44071-1693468800-1693501200@2020-2023.narino.gov.co
SUMMARY:Tu negocio Digital
DESCRIPTION:A través de nuestra Casa Departamental de las Mujeres de Nariño de la Secretaría de Equidad de Género e Inclusión Social queremos invitarte a ser parte de esta iniciativa. Serán soluciones tecnológicas y tu microempresa puede beneficiarse de ellas. No dejes pasar esta oportunidad!!!  Te esperamos este de agosto en la Cámara de Comercio de Pasto de la mañana.
URL:https://2020-2023.narino.gov.co/evento/tu-negocio-digital/
END:VEVENT
END:VCALENDAR